Workbook

Sheet Breakeven
B2: BREAKEVEN & RECOVERY
B3: Revision 7 · Livingstone, Zambia · new 20-suite encampment under a proposed government land partnership · no land rent or deposit · EUR reporting
B5: CONSERVATIVE YEAR 1 CASH BREAKEVEN | F5: OPERATING CASH POSITIVE | J5: STARTUP SPEND RECOVERED
B6: =IF(ISNUMBER(F14),ROUNDUP(F14,0),"Not feasible") -> 135 | F6: =C45 -> 5 | J6: =C47 -> 53
B8: =IF(ISNUMBER(F14),TEXT(ROUNDUP(F14,0)/Inputs!$D$16,"0.00%")&" of annual capacity","Threshold not feasible under current inputs: contribution per suite-week is not positive or the requirement exceeds capacity") -> 16.88% of annual capacity | F8: ="Project month "&D45&" · cumulative free cash "&TEXT(E45,"€#,##0") -> Project month 23 · cumulative free cash €61,089 | J8: ="Project month "&D47&" · total startup spend "&TEXT(E47,"€#,##0") -> Project month 71 · total startup spend €3,819,551
B11: VISIBLE CASH BREAKEVEN CALCULATION | H11: CASE COMPARISON
B12: Net package per paid suite-week | C12: ='Five Year'!D8 -> 6500 | E12: Fixed + mission floor | F12: =C19+C20 -> 544066.39 | H12: Case | I12: Cash threshold | J12: Rounded weeks | K12: Whole capacity | L12: EBITDA threshold | M12: EBITDA package at forecast
B13: Delivery per paid suite-week | C13: ='Five Year'!D11 -> 1153.3668 | E13: Cash contribution / paid suite-week | F13: =C12*(1-C14)-C13-C12*C16-C12*C17 -> 4046.6332 | H13: Conservative | I13: ='Five Year'!D32*Inputs!$D$16 -> 134.44915 | J13: =ROUNDUP(I13,0) -> 135 | K13: =J13/Inputs!$D$16 -> 0.16875 | L13: ='Five Year'!D30*Inputs!$D$16 -> 119.1395 | M13: ='Five Year'!D31 -> 3242.698
B14: Sales and payment rate | C14: ='Five Year'!D48 -> 0.12 | E14: Continuous cash breakeven | F14: =IF(OR(MIN(F27:F30)<=0,MAX(C27:C30)<=0,MAX(C27:C30)>C22),"Not feasible",MAX(C27:C30)) -> 134.44915 | H14: Middle | I14: =Average!D32*Inputs!$D$16 -> 126.01789 | J14: =ROUNDUP(I14,0) -> 127 | K14: =J14/Inputs!$D$16 -> 0.15875 | L14: =Average!D30*Inputs!$D$16 -> 112.05349 | M14: =Average!D31 -> 2912.4813
B15: Mission revenue share | C15: =Inputs!D51 -> 0.08 | E15: Whole paid suite-weeks | F15: =IF(ISNUMBER(F14),ROUNDUP(F14,0),"Not feasible") -> 135 | H15: High | I15: ='High Performance'!D32*Inputs!$D$16 -> 119.14906 | J15: =ROUNDUP(I15,0) -> 120 | K15: =J15/Inputs!$D$16 -> 0.15 | L15: ='High Performance'!D30*Inputs!$D$16 -> 106.24242 | M15: ='High Performance'!D31 -> 2717.9113
B16: Replacement rate | C16: =Inputs!D52 -> 0.03 | E16: Cash at one week below | F16: =C32 -> -1817.5321
B17: Initial Year 1 working-capital rate | C17: =Inputs!D53 -> 0.05 | E17: Cash at rounded threshold | F17: =C33 -> 2229.1011
B18: Modelled tax rate | C18: =Inputs!D54 -> 0.3 | E18: Threshold net sales | F18: =F15*C12 -> 877500 | H18: ACCOUNTING PROFIT BREAKEVEN | I18: =MAX(($C$19+$C$20+$C$21)/($C$12*(1-$C$14)-$C$13-$C$12*$C$16/10),($C$19+$C$21)/($C$12*(1-$C$14-$C$15)-$C$13-$C$12*$C$16/10)) -> 184.63597 | J18: =ROUNDUP(I18,0) -> 185 | K18: =J18/Inputs!$D$16 -> 0.23125
B19: Fixed site and central expenses | C19: ='Five Year'!D15+'Five Year'!D16 -> 444066.39 | E19: Threshold accounting profit | F19: =C35 -> -225701.37
B20: Mission floor | C20: =Inputs!D50 -> 100000 | E20: Threshold tax | F20: =C36 -> 0
B21: Initial annual depreciation, life-capped Year 1 | C21: ='Asset Register'!G25 -> 295497.97
B22: Annual capacity, suite-weeks | C22: =Inputs!D16 -> 800
B23: Development months before handover | C23: =COUNT(Development!$D$5:$U$5) -> 18
B25: DYNAMIC CASH THRESHOLD · FOUR STRAIGHT-LINE CASES
B26: Case | C26: Continuous paid suite-weeks | D26: Mission branch | E26: Tax branch | F26: Cash contribution slope
B27: Floor / non-taxable | C27: =(C19+C20)/(C12*(1-C14)-C13-C12*(C16+C17)) -> 134.44915 | D27: Mission floor | E27: Tax zero | F27: =C12*(1-C14)-C13-C12*(C16+C17) -> 4046.6332
B28: Share / non-taxable | C28: =C19/(C12*(1-C14-C15)-C13-C12*(C16+C17)) -> 125.91794 | D28: Revenue share | E28: Tax zero | F28: =C12*(1-C14-C15)-C13-C12*(C16+C17) -> 3526.6332
B29: Floor / taxable | C29: =((1-C18)*(C19+C20)-C18*C21)/((1-C18)*(C12*(1-C14)-C13)+C18*(C12*C16/10)-C12*(C16+C17)) -> 108.92742 | D29: Mission floor | E29: Tax applies | F29: =(1-C18)*(C12*(1-C14)-C13)+C18*(C12*C16/10)-C12*(C16+C17) -> 2682.4933
B30: Share / taxable | C30: =((1-C18)*C19-C18*C21)/((1-C18)*(C12*(1-C14-C15)-C13)+C18*(C12*C16/10)-C12*(C16+C17)) -> 95.836844 | D30: Revenue share | E30: Tax applies | F30: =(1-C18)*(C12*(1-C14-C15)-C13)+C18*(C12*C16/10)-C12*(C16+C17) -> 2318.4933
E31: Minimum slope (must be positive) | F31: =MIN(F27:F30) -> 2318.4933
B32: Cash at 134 paid suite-weeks | C32: =(($C$12*134-$C$13*134-$C$14*$C$12*134-MAX($C$20,$C$15*$C$12*134)-$C$19)-$C$18*MAX(0,($C$12*134-$C$13*134-$C$14*$C$12*134-MAX($C$20,$C$15*$C$12*134)-$C$19)-$C$21-$C$12*$C$16/10*134)-$C$12*($C$16+$C$17)*134) -> -1817.5321
B33: Cash at 135 paid suite-weeks | C33: =(($C$12*135-$C$13*135-$C$14*$C$12*135-MAX($C$20,$C$15*$C$12*135)-$C$19)-$C$18*MAX(0,($C$12*135-$C$13*135-$C$14*$C$12*135-MAX($C$20,$C$15*$C$12*135)-$C$19)-$C$21-$C$12*$C$16/10*135)-$C$12*($C$16+$C$17)*135) -> 2229.1011
B34: EBITDA at cash threshold | C34: =$C$12*$F$15-$C$13*$F$15-$C$14*$C$12*$F$15-MAX($C$20,$C$15*$C$12*$F$15)-$C$19 -> 72429.101
B35: Accounting profit at cash threshold | C35: =C34-$C$21-$C$12*$C$16/10*$F$15 -> -225701.37
B36: Tax at cash threshold | C36: =$C$18*MAX(0,C35) -> 0
B40: CONSERVATIVE RECOVERY MILESTONES
B41: Milestone | C41: Operating month | D41: Project month | E41: Amount / threshold | F41: Meaning
B43: First individual monthly cash surplus (that month’s flow) | C43: =MATCH(TRUE(),D54:D112-D53:D111>0,0)+1 -> 3 | D43: =C43+$C$23 -> 21 | E43: =INDEX(D53:D112,C43)-INDEX(D53:D112,C43-1) -> 65518.774 | F43: That month's own cash flow, not cumulative cash
B45: Cumulative operating free cash first positive | C45: =MATCH(TRUE(),D53:D112>0,0) -> 5 | D45: =C45+$C$23 -> 23 | E45: =INDEX(D53:D112,C45) -> 61089.345 | F45: Generated since operations began; excludes opening reserve
B47: Total capital + pre-opening use recovered | C47: =MATCH(TRUE(),D53:D112>=Capital!$D$36,0) -> 53 | D47: =C47+$C$23 -> 71 | E47: =Capital!$D$36 -> 3819550.8 | F47: Startup-spend comparison; not investor payout or IRR
B48: Base committed funding exceeded | C48: =MATCH(TRUE(),D53:D112>=Capital!$D$37,0) -> 58 | D48: =C48+$C$23 -> 76 | E48: =Capital!$D$37 -> 4619550.8 | F48: Capital-commitment comparison only
B49: Stress-covered funding recovered | C49: =IFERROR(MATCH(TRUE(),D53:D112>=Capital!$D$41,0),"Not within 5 operating years") -> Not within 5 operating years | D49: =IF(ISNUMBER(C49),C49+$C$23,"—") -> — | E49: =Capital!$D$41 -> 5829550.8 | F49: Five-year cumulative free cash is below this threshold
B51: Operating month | C51: Project month | D51: Cumulative operating free cash | E51: Startup spend | F51: Base funding | G51: Stress-covered funding
B53: 1 | C53: =B53+$C$23 -> 19 | D53: =Stress!D53-Capital!$D$39 -> -67733.489 | E53: =Capital!$D$36 -> 3819550.8 | F53: =Capital!$D$37 -> 4619550.8 | G53: =Capital!$D$41 -> 5829550.8
B54: 2 | C54: =B54+$C$23 -> 20 | D54: =Stress!E53-Capital!$D$39 -> -135466.98 | E54: =Capital!$D$36 -> 3819550.8 | F54: =Capital!$D$37 -> 4619550.8 | G54: =Capital!$D$41 -> 5829550.8
...

Sheet Scenario Comparison
B2: Revision 7 scenario comparison — Livingstone, Zambia new-build encampment under a proposed government land partnership
D4: Conservative | E4: Middle | F4: High performance
B5: Year 1 net stay revenue | D5: ='Five Year'!D10 -> 2080000 | E5: =Average!D10 -> 2800000 | F5: ='High Performance'!D10 -> 3600000 | I5: Higher price and higher occupancy have to be achieved together. No probability of success is assigned to any column.
B6: Year 1 EBITDA | D6: ='Five Year'!D17 -> 850856.25 | E6: =Average!D17 -> 1331156.7 | F6: ='High Performance'!D17 -> 1882230.1
B7: Year 1 EBITDA margin | D7: ='Five Year'!D18 -> 0.4090655 | E7: =Average!D18 -> 0.47541309 | F7: ='High Performance'!D18 -> 0.5228417
B8: Year 1 net cash movement | D8: ='Five Year'!D25 -> 519720.77 | E8: =Average!D25 -> 798979.05 | F8: ='High Performance'!D25 -> 1121450.5
B9: Year 5 net stay revenue | D9: ='Five Year'!H10 -> 4267172.1 | E9: =Average!H10 -> 5302403.2 | F9: ='High Performance'!H10 -> 6438632.5
B10: Year 5 EBITDA | D10: ='Five Year'!H17 -> 2161687.4 | E10: =Average!H17 -> 2890971.2 | F10: ='High Performance'!H17 -> 3710244.3
B11: Year 5 EBITDA margin | D11: ='Five Year'!H18 -> 0.50658546 | E11: =Average!H18 -> 0.54521903 | F11: ='High Performance'!H18 -> 0.57624726
B12: Year 5 net cash movement | D12: ='Five Year'!H25 -> 1471075.1 | E12: =Average!H25 -> 1960814.3 | F12: ='High Performance'!H25 -> 2504021
B13: Year 5 closing cash | D13: ='Five Year'!H26 -> 5903992.8 | E13: =Average!H26 -> 8041837.6 | F13: ='High Performance'!H26 -> 10273407
B14: Five-year cumulative net cash | D14: ='Five Year'!D28 -> 5103992.8 | E14: =Average!D28 -> 7241837.6 | F14: ='High Performance'!D28 -> 9473406.6
B15: Five-year cumulative mission spend | D15: ='Five Year'!D29 -> 1273791.8 | E15: =Average!D29 -> 1659587.9 | F15: ='High Performance'!D29 -> 2048710.3
B16: Break-even occupancy, Year 1 | D16: ='Five Year'!D30 -> 0.14892437 | E16: =Average!D30 -> 0.14006686 | F16: ='High Performance'!D30 -> 0.13280302
B17: Break-even net package, Year 1 | D17: ='Five Year'!D31 -> 3242.698 | E17: =Average!D31 -> 2912.4813 | F17: ='High Performance'!D31 -> 2717.9113
B20: Committed funding (base) | D20: =Capital!D37 -> 4619550.8
B21: Additional stress liquidity disclosed | D21: =Capital!D40 -> 1210000
B22: Stress-covered committed funding | D22: =Capital!D41 -> 5829550.8

Sheet Five Year
B2: Conservative case — Livingstone, Zambia · 20 suites · 40 planned weeks · EUR nominal
B3: Illustrative planning case. Not achieved results, not a forecast of demand and not a promised margin.
D5: Year 1 | E5: Year 2 | F5: Year 3 | G5: Year 4 | H5: Year 5
B7: Paid occupancy | D7: =MAX(0,D$50-0) -> 0.4 | E7: =MAX(0,E$50-0) -> 0.48 | F7: =MAX(0,F$50-0) -> 0.55 | G7: =MAX(0,G$50-0) -> 0.6 | H7: =MAX(0,H$50-0) -> 0.65 | J7: Net operating revenue convention: prices are NET of VAT and the tourism levy, which are charged separately to guests and are pass-through, not revenue.
B8: Net package per suite-week (EUR) | D8: =$D$49*1*(1+Inputs!$D$49)^0 -> 6500 | E8: =$D$49*1*(1+Inputs!$D$49)^1 -> 6890 | F8: =$D$49*1*(1+Inputs!$D$49)^2 -> 7303.4 | G8: =$D$49*1*(1+Inputs!$D$49)^3 -> 7741.604 | H8: =$D$49*1*(1+Inputs!$D$49)^4 -> 8206.1002
B9: Occupied suite-weeks | D9: =Inputs!$D$16*D7 -> 320 | E9: =Inputs!$D$16*E7 -> 384 | F9: =Inputs!$D$16*F7 -> 440 | G9: =Inputs!$D$16*G7 -> 480 | H9: =Inputs!$D$16*H7 -> 520
B10: Net stay revenue | D10: =D9*D8 -> 2080000 | E10: =E9*E8 -> 2645760 | F10: =F9*F8 -> 3213496 | G10: =G9*G8 -> 3715969.9 | H10: =H9*H8 -> 4267172.1
B11: Variable cost per occupied suite-week | D11: =((Inputs!$E$41*$D$46/Capital!$D$6)*(1+Inputs!$D$47)^0+Inputs!$E$42*$D$46*(1+Inputs!$D$48)^0)*1 -> 1153.3668 | E11: =((Inputs!$E$41*$D$46/Capital!$D$6)*(1+Inputs!$D$47)^1+Inputs!$E$42*$D$46*(1+Inputs!$D$48)^1)*1 -> 1200.0688 | F11: =((Inputs!$E$41*$D$46/Capital!$D$6)*(1+Inputs!$D$47)^2+Inputs!$E$42*$D$46*(1+Inputs!$D$48)^2)*1 -> 1248.8979 | G11: =((Inputs!$E$41*$D$46/Capital!$D$6)*(1+Inputs!$D$47)^3+Inputs!$E$42*$D$46*(1+Inputs!$D$48)^3)*1 -> 1299.9615 | H11: =((Inputs!$E$41*$D$46/Capital!$D$6)*(1+Inputs!$D$47)^4+Inputs!$E$42*$D$46*(1+Inputs!$D$48)^4)*1 -> 1353.3729
B12: Variable delivery cost | D12: =D11*D9 -> 369077.37 | E12: =E11*E9 -> 460826.41 | F12: =F11*F9 -> 549515.08 | G12: =G11*G9 -> 623981.53 | H12: =H11*H9 -> 703753.89
B13: Sales and payment costs | D13: =D10*$D$48 -> 249600 | E13: =E10*$D$48 -> 317491.2 | F13: =F10*$D$48 -> 385619.52 | G13: =G10*$D$48 -> 445916.39 | H13: =H10*$D$48 -> 512060.65
B14: Mission budget | D14: =MAX(Inputs!$D$50*1*(1+Inputs!$D$48)^0,Inputs!$D$51*D10) -> 166400 | E14: =MAX(Inputs!$D$50*1*(1+Inputs!$D$48)^1,Inputs!$D$51*E10) -> 211660.8 | F14: =MAX(Inputs!$D$50*1*(1+Inputs!$D$48)^2,Inputs!$D$51*F10) -> 257079.68 | G14: =MAX(Inputs!$D$50*1*(1+Inputs!$D$48)^3,Inputs!$D$51*G10) -> 297277.59 | H14: =MAX(Inputs!$D$50*1*(1+Inputs!$D$48)^4,Inputs!$D$51*H10) -> 341373.77
B15: Fixed site cost | D15: =((Inputs!$E$28*$D$47/Capital!$D$6)*(1+Inputs!$D$47)^0+Inputs!$E$29*$D$47*(1+Inputs!$D$48)^0)*1 -> 384066.39 | E15: =((Inputs!$E$28*$D$47/Capital!$D$6)*(1+Inputs!$D$47)^1+Inputs!$E$29*$D$47*(1+Inputs!$D$48)^1)*1 -> 406210.37 | F15: =((Inputs!$E$28*$D$47/Capital!$D$6)*(1+Inputs!$D$47)^2+Inputs!$E$29*$D$47*(1+Inputs!$D$48)^2)*1 -> 429655.99 | G15: =((Inputs!$E$28*$D$47/Capital!$D$6)*(1+Inputs!$D$47)^3+Inputs!$E$29*$D$47*(1+Inputs!$D$48)^3)*1 -> 454480.54 | H15: =((Inputs!$E$28*$D$47/Capital!$D$6)*(1+Inputs!$D$47)^4+Inputs!$E$29*$D$47*(1+Inputs!$D$48)^4)*1 -> 480765.92
B16: Central support | D16: =Inputs!$E$30*$D$47*(1+Inputs!$D$48)^0*1 -> 60000 | E16: =Inputs!$E$30*$D$47*(1+Inputs!$D$48)^1*1 -> 61800 | F16: =Inputs!$E$30*$D$47*(1+Inputs!$D$48)^2*1 -> 63654 | G16: =Inputs!$E$30*$D$47*(1+Inputs!$D$48)^3*1 -> 65563.62 | H16: =Inputs!$E$30*$D$47*(1+Inputs!$D$48)^4*1 -> 67530.529
B17: Operating profit / EBITDA | D17: =D10-D12-D13-D14-D15-D16 -> 850856.25 | E17: =E10-E12-E13-E14-E15-E16 -> 1187771.2 | F17: =F10-F12-F13-F14-F15-F16 -> 1527971.7 | G17: =G10-G12-G13-G14-G15-G16 -> 1828750.2 | H17: =H10-H12-H13-H14-H15-H16 -> 2161687.4
B18: EBITDA margin | D18: =IF(D10=0,0,D17/D10) -> 0.4090655 | E18: =IF(E10=0,0,E17/E10) -> 0.44893385 | F18: =IF(F10=0,0,F17/F10) -> 0.47548581 | G18: =IF(G10=0,0,G17/G10) -> 0.49213268 | H18: =IF(H10=0,0,H17/H10) -> 0.50658546
B19: Replacement capex | D19: =D10*Inputs!$D$52 -> 62400 | E19: =E10*Inputs!$D$52 -> 79372.8 | F19: =F10*Inputs!$D$52 -> 96404.88 | G19: =G10*Inputs!$D$52 -> 111479.1 | H19: =H10*Inputs!$D$52 -> 128015.16
B20: Depreciation | D20: ='Asset Register'!$G$25+0/5+D19/10 -> 301737.97 | E20: ='Asset Register'!$G$26+SUM($D19:D19)/5+E19/10 -> 315915.25 | F20: ='Asset Register'!$G$27+SUM($D19:E19)/5+F19/10 -> 333493.02 | G20: ='Asset Register'!$G$28+SUM($D19:F19)/5+G19/10 -> 354281.42 | H20: ='Asset Register'!$G$29+SUM($D19:G19)/5+H19/10 -> 378230.84
B21: Accounting profit before tax | D21: =D17-D20 -> 549118.28 | E21: =E17-E20 -> 871855.97 | F21: =F17-F20 -> 1194478.7 | G21: =G17-G20 -> 1474468.8 | H21: =H17-H20 -> 1783456.5
B22: Tax at 30% of positive profit | D22: =MAX(0,D21)*Inputs!$D$54 -> 164735.48 | E22: =MAX(0,E21)*Inputs!$D$54 -> 261556.79 | F22: =MAX(0,F21)*Inputs!$D$54 -> 358343.61 | G22: =MAX(0,G21)*Inputs!$D$54 -> 442340.65 | H22: =MAX(0,H21)*Inputs!$D$54 -> 535036.96
B23: Net accounting profit | D23: =D21-D22 -> 384382.79 | E23: =E21-E22 -> 610299.18 | F23: =F21-F22 -> 836135.1 | G23: =G21-G22 -> 1032128.2 | H23: =H21-H22 -> 1248419.6
B24: Working capital movement | D24: =(D10-0)*Inputs!$D$53 -> 104000 | E24: =(E10-D10)*Inputs!$D$53 -> 28288 | F24: =(F10-E10)*Inputs!$D$53 -> 28386.8 | G24: =(G10-F10)*Inputs!$D$53 -> 25123.696 | H24: =(H10-G10)*Inputs!$D$53 -> 27560.11
B25: Net cash movement | D25: =D17-D22-D19-D24 -> 519720.77 | E25: =E17-E22-E19-E24 -> 818553.63 | F25: =F17-F22-F19-F24 -> 1044836.4 | G25: =G17-G22-G19-G24 -> 1249806.8 | H25: =H17-H22-H19-H24 -> 1471075.1
B26: Closing cash | D26: =Capital!$D$39+D25 -> 1319720.8 | E26: =D26+E25 -> 2138274.4 | F26: =E26+F25 -> 3183110.8 | G26: =F26+G25 -> 4432917.6 | H26: =G26+H25 -> 5903992.8
B28: Five-year cumulative net cash | D28: =SUM(D25:H25) -> 5103992.8
B29: Five-year cumulative mission spend | D29: =SUM(D14:H14) -> 1273791.8
B30: Year 1 EBITDA breakeven occupancy (excludes replacement, working capital and tax) | D30: =IF(OR(D8*(1-$D$48)-D11<=0,D8*(1-$D$48-Inputs!$D$51)-D11<=0),"Infeasible",IF(MAX((D15+D16+Inputs!$D$50)/(D8*(1-$D$48)-D11),(D15+D16)/(D8*(1-$D$48-Inputs!$D$51)-D11))>Inputs!$D$16,"Above capacity",MAX((D15+D16+Inputs!$D$50)/(D8*(1-$D$48)-D11),(D15+D16)/(D8*(1-$D$48-Inputs!$D$51)-D11))/Inputs!$D$16)) -> 0.14892437
B31: Year 1 EBITDA breakeven net package at forecast paid suite-weeks | D31: =IF(OR(D9<=0,1-$D$48<=0,1-$D$48-Inputs!$D$51<=0),"Infeasible",MAX((D15+D16+D11*D9+Inputs!$D$50)/(D9*(1-$D$48)),(D15+D16+D11*D9)/(D9*(1-$D$48-Inputs!$D$51)))) -> 3242.698
B32: Year 1 cash breakeven occupancy (tax, replacement and initial working capital included) | D32: =IF(OR(D8*(1-$D$48)-D11-D8*(Inputs!$D$52+Inputs!$D$53)<=0,D8*(1-$D$48-Inputs!$D$51)-D11-D8*(Inputs!$D$52+Inputs!$D$53)<=0,(1-Inputs!$D$54)*(D8*(1-$D$48)-D11)+Inputs!$D$54*D8*Inputs!$D$52/10-D8*(Inputs!$D$52+Inputs!$D$53)<=0,(1-Inputs!$D$54)*(D8*(1-$D$48-Inputs!$D$51)-D11)+Inputs!$D$54*D8*Inputs!$D$52/10-D8*(Inputs!$D$52+Inputs!$D$53)<=0),"Infeasible",IF(MAX((D15+D16+Inputs!$D$50)/(D8*(1-$D$48)-D11-D8*(Inputs!$D$52+Inputs!$D$53)),(D15+D16)/(D8*(1-$D$48-Inputs!$D$51)-D11-D8*(Inputs!$D$52+Inputs!$D$53)),((1-Inputs!$D$54)*(D15+D16+Inputs!$D$50)-Inputs!$D$54*'Asset Register'!$G$25)/((1-Inputs!$D$54)*(D8*(1-$D$48)-D11)+Inputs!$D$54*D8*Inputs!$D$52/10-D8*(Inputs!$D$52+Inputs!$D$53)),((1-Inputs!$D$54)*(D15+D16)-Inputs!$D$54*'Asset Register'!$G$25)/((1-Inputs!$D$54)*(D8*(1-$D$48-Inputs!$D$51)-D11)+Inputs!$D$54*D8*Inputs!$D$52/10-D8*(Inputs!$D$52+Inputs!$D$53)))>Inputs!$D$16,"Above capacity",MAX(0,(D15+D16+Inputs!$D$50)/(D8*(1-$D$48)-D11-D8*(Inputs!$D$52+Inputs!$D$53)),(D15+D16)/(D8*(1-$D$48-Inputs!$D$51)-D11-D8*(Inputs!$D$52+Inputs!$D$53)),((1-Inputs!$D$54)*(D15+D16+Inputs!$D$50)-Inputs!$D$54*'Asset Register'!$G$25)/((1-Inputs!$D$54)*(D8*(1-$D$48)-D11)+Inputs!$D$54*D8*Inputs!$D$52/10-D8*(Inputs!$D$52+Inputs!$D$53)),((1-Inputs!$D$54)*(D15+D16)-Inputs!$D$54*'Asset Register'!$G$25)/((1-Inputs!$D$54)*(D8*(1-$D$48-Inputs!$D$51)-D11)+Inputs!$D$54*D8*Inputs!$D$52/10-D8*(Inputs!$D$52+Inputs!$D$53)))/Inputs!$D$16)) -> 0.16806143
B45: Scenario switches
B46: Variable cost multiplier | D46: 1
B47: Fixed and central multiplier | D47: 1
B48: Sales and payments share of revenue | D48: 0.12
B49: Year 1 net package | D49: 6500
B50: Paid occupancy by year | D50: 0.4 | E50: 0.48 | F50: 0.55 | G50: 0.6 | H50: 0.65

Sheet Average
B2: Middle case — Livingstone, Zambia · 20 suites · 40 planned weeks · EUR nominal
B3: Illustrative planning case. Not achieved results, not a forecast of demand and not a promised margin.
D5: Year 1 | E5: Year 2 | F5: Year 3 | G5: Year 4 | H5: Year 5
B7: Paid occupancy | D7: =MAX(0,D$50-0) -> 0.5 | E7: =MAX(0,E$50-0) -> 0.6 | F7: =MAX(0,F$50-0) -> 0.68 | G7: =MAX(0,G$50-0) -> 0.72 | H7: =MAX(0,H$50-0) -> 0.75 | J7: Net operating revenue convention: prices are NET of VAT and the tourism levy, which are charged separately to guests and are pass-through, not revenue.
B8: Net package per suite-week (EUR) | D8: =$D$49*1*(1+Inputs!$D$49)^0 -> 7000 | E8: =$D$49*1*(1+Inputs!$D$49)^1 -> 7420 | F8: =$D$49*1*(1+Inputs!$D$49)^2 -> 7865.2 | G8: =$D$49*1*(1+Inputs!$D$49)^3 -> 8337.112 | H8: =$D$49*1*(1+Inputs!$D$49)^4 -> 8837.3387
B9: Occupied suite-weeks | D9: =Inputs!$D$16*D7 -> 400 | E9: =Inputs!$D$16*E7 -> 480 | F9: =Inputs!$D$16*F7 -> 544 | G9: =Inputs!$D$16*G7 -> 576 | H9: =Inputs!$D$16*H7 -> 600
B10: Net stay revenue | D10: =D9*D8 -> 2800000 | E10: =E9*E8 -> 3561600 | F10: =F9*F8 -> 4278668.8 | G10: =G9*G8 -> 4802176.5 | H10: =H9*H8 -> 5302403.2
B11: Variable cost per occupied suite-week | D11: =((Inputs!$E$41*$D$46/Capital!$D$6)*(1+Inputs!$D$47)^0+Inputs!$E$42*$D$46*(1+Inputs!$D$48)^0)*1 -> 1176.4341 | E11: =((Inputs!$E$41*$D$46/Capital!$D$6)*(1+Inputs!$D$47)^1+Inputs!$E$42*$D$46*(1+Inputs!$D$48)^1)*1 -> 1224.0701 | F11: =((Inputs!$E$41*$D$46/Capital!$D$6)*(1+Inputs!$D$47)^2+Inputs!$E$42*$D$46*(1+Inputs!$D$48)^2)*1 -> 1273.8759 | G11: =((Inputs!$E$41*$D$46/Capital!$D$6)*(1+Inputs!$D$47)^3+Inputs!$E$42*$D$46*(1+Inputs!$D$48)^3)*1 -> 1325.9608 | H11: =((Inputs!$E$41*$D$46/Capital!$D$6)*(1+Inputs!$D$47)^4+Inputs!$E$42*$D$46*(1+Inputs!$D$48)^4)*1 -> 1380.4403
B12: Variable delivery cost | D12: =D11*D9 -> 470573.64 | E12: =E11*E9 -> 587553.67 | F12: =F11*F9 -> 692988.47 | G12: =G11*G9 -> 763753.39 | H12: =H11*H9 -> 828264.19
B13: Sales and payment costs | D13: =D10*$D$48 -> 308000 | E13: =E10*$D$48 -> 391776 | F13: =F10*$D$48 -> 470653.57 | G13: =G10*$D$48 -> 528239.42 | H13: =H10*$D$48 -> 583264.36
B14: Mission budget | D14: =MAX(Inputs!$D$50*1*(1+Inputs!$D$48)^0,Inputs!$D$51*D10) -> 224000 | E14: =MAX(Inputs!$D$50*1*(1+Inputs!$D$48)^1,Inputs!$D$51*E10) -> 284928 | F14: =MAX(Inputs!$D$50*1*(1+Inputs!$D$48)^2,Inputs!$D$51*F10) -> 342293.5 | G14: =MAX(Inputs!$D$50*1*(1+Inputs!$D$48)^3,Inputs!$D$51*G10) -> 384174.12 | H14: =MAX(Inputs!$D$50*1*(1+Inputs!$D$48)^4,Inputs!$D$51*H10) -> 424192.26
B15: Fixed site cost | D15: =((Inputs!$E$28*$D$47/Capital!$D$6)*(1+Inputs!$D$47)^0+Inputs!$E$29*$D$47*(1+Inputs!$D$48)^0)*1 -> 403269.7 | E15: =((Inputs!$E$28*$D$47/Capital!$D$6)*(1+Inputs!$D$47)^1+Inputs!$E$29*$D$47*(1+Inputs!$D$48)^1)*1 -> 426520.89 | F15: =((Inputs!$E$28*$D$47/Capital!$D$6)*(1+Inputs!$D$47)^2+Inputs!$E$29*$D$47*(1+Inputs!$D$48)^2)*1 -> 451138.79 | G15: =((Inputs!$E$28*$D$47/Capital!$D$6)*(1+Inputs!$D$47)^3+Inputs!$E$29*$D$47*(1+Inputs!$D$48)^3)*1 -> 477204.57 | H15: =((Inputs!$E$28*$D$47/Capital!$D$6)*(1+Inputs!$D$47)^4+Inputs!$E$29*$D$47*(1+Inputs!$D$48)^4)*1 -> 504804.21
B16: Central support | D16: =Inputs!$E$30*$D$47*(1+Inputs!$D$48)^0*1 -> 63000 | E16: =Inputs!$E$30*$D$47*(1+Inputs!$D$48)^1*1 -> 64890 | F16: =Inputs!$E$30*$D$47*(1+Inputs!$D$48)^2*1 -> 66836.7 | G16: =Inputs!$E$30*$D$47*(1+Inputs!$D$48)^3*1 -> 68841.801 | H16: =Inputs!$E$30*$D$47*(1+Inputs!$D$48)^4*1 -> 70907.055
B17: Operating profit / EBITDA | D17: =D10-D12-D13-D14-D15-D16 -> 1331156.7 | E17: =E10-E12-E13-E14-E15-E16 -> 1805931.4 | F17: =F10-F12-F13-F14-F15-F16 -> 2254757.8 | G17: =G10-G12-G13-G14-G15-G16 -> 2579963.2 | H17: =H10-H12-H13-H14-H15-H16 -> 2890971.2
B18: EBITDA margin | D18: =IF(D10=0,0,D17/D10) -> 0.47541309 | E18: =IF(E10=0,0,E17/E10) -> 0.50705622 | F18: =IF(F10=0,0,F17/F10) -> 0.52697647 | G18: =IF(G10=0,0,G17/G10) -> 0.53724873 | H18: =IF(H10=0,0,H17/H10) -> 0.54521903
B19: Replacement capex | D19: =D10*Inputs!$D$52 -> 84000 | E19: =E10*Inputs!$D$52 -> 106848 | F19: =F10*Inputs!$D$52 -> 128360.06 | G19: =G10*Inputs!$D$52 -> 144065.3 | H19: =H10*Inputs!$D$52 -> 159072.1
B20: Depreciation | D20: ='Asset Register'!$G$25+0/5+D19/10 -> 303897.97 | E20: ='Asset Register'!$G$26+SUM($D19:D19)/5+E19/10 -> 322982.77 | F20: ='Asset Register'!$G$27+SUM($D19:E19)/5+F19/10 -> 346503.58 | G20: ='Asset Register'!$G$28+SUM($D19:F19)/5+G19/10 -> 373746.12 | H20: ='Asset Register'!$G$29+SUM($D19:G19)/5+H19/10 -> 404059.85
B21: Accounting profit before tax | D21: =D17-D20 -> 1027258.7 | E21: =E17-E20 -> 1482948.7 | F21: =F17-F20 -> 1908254.2 | G21: =G17-G20 -> 2206217.1 | H21: =H17-H20 -> 2486911.3
B22: Tax at 30% of positive profit | D22: =MAX(0,D21)*Inputs!$D$54 -> 308177.6 | E22: =MAX(0,E21)*Inputs!$D$54 -> 444884.6 | F22: =MAX(0,F21)*Inputs!$D$54 -> 572476.26 | G22: =MAX(0,G21)*Inputs!$D$54 -> 661865.13 | H22: =MAX(0,H21)*Inputs!$D$54 -> 746073.39
B23: Net accounting profit | D23: =D21-D22 -> 719081.08 | E23: =E21-E22 -> 1038064.1 | F23: =F21-F22 -> 1335777.9 | G23: =G21-G22 -> 1544352 | H23: =H21-H22 -> 1740837.9
B24: Working capital movement | D24: =(D10-0)*Inputs!$D$53 -> 140000 | E24: =(E10-D10)*Inputs!$D$53 -> 38080 | F24: =(F10-E10)*Inputs!$D$53 -> 35853.44 | G24: =(G10-F10)*Inputs!$D$53 -> 26175.386 | H24: =(H10-G10)*Inputs!$D$53 -> 25011.336
B25: Net cash movement | D25: =D17-D22-D19-D24 -> 798979.05 | E25: =E17-E22-E19-E24 -> 1216118.8 | F25: =F17-F22-F19-F24 -> 1518068 | G25: =G17-G22-G19-G24 -> 1747857.4 | H25: =H17-H22-H19-H24 -> 1960814.3
B26: Closing cash | D26: =Capital!$D$39+D25 -> 1598979 | E26: =D26+E25 -> 2815097.9 | F26: =E26+F25 -> 4333165.9 | G26: =F26+G25 -> 6081023.3 | H26: =G26+H25 -> 8041837.6
B28: Five-year cumulative net cash | D28: =SUM(D25:H25) -> 7241837.6
B29: Five-year cumulative mission spend | D29: =SUM(D14:H14) -> 1659587.9
B30: Year 1 EBITDA breakeven occupancy (excludes replacement, working capital and tax) | D30: =IF(OR(D8*(1-$D$48)-D11<=0,D8*(1-$D$48-Inputs!$D$51)-D11<=0),"Infeasible",IF(MAX((D15+D16+Inputs!$D$50)/(D8*(1-$D$48)-D11),(D15+D16)/(D8*(1-$D$48-Inputs!$D$51)-D11))>Inputs!$D$16,"Above capacity",MAX((D15+D16+Inputs!$D$50)/(D8*(1-$D$48)-D11),(D15+D16)/(D8*(1-$D$48-Inputs!$D$51)-D11))/Inputs!$D$16)) -> 0.14006686
B31: Year 1 EBITDA breakeven net package at forecast paid suite-weeks | D31: =IF(OR(D9<=0,1-$D$48<=0,1-$D$48-Inputs!$D$51<=0),"Infeasible",MAX((D15+D16+D11*D9+Inputs!$D$50)/(D9*(1-$D$48)),(D15+D16+D11*D9)/(D9*(1-$D$48-Inputs!$D$51)))) -> 2912.4813
B32: Year 1 cash breakeven occupancy (tax, replacement and initial working capital included) | D32: =IF(OR(D8*(1-$D$48)-D11-D8*(Inputs!$D$52+Inputs!$D$53)<=0,D8*(1-$D$48-Inputs!$D$51)-D11-D8*(Inputs!$D$52+Inputs!$D$53)<=0,(1-Inputs!$D$54)*(D8*(1-$D$48)-D11)+Inputs!$D$54*D8*Inputs!$D$52/10-D8*(Inputs!$D$52+Inputs!$D$53)<=0,(1-Inputs!$D$54)*(D8*(1-$D$48-Inputs!$D$51)-D11)+Inputs!$D$54*D8*Inputs!$D$52/10-D8*(Inputs!$D$52+Inputs!$D$53)<=0),"Infeasible",IF(MAX((D15+D16+Inputs!$D$50)/(D8*(1-$D$48)-D11-D8*(Inputs!$D$52+Inputs!$D$53)),(D15+D16)/(D8*(1-$D$48-Inputs!$D$51)-D11-D8*(Inputs!$D$52+Inputs!$D$53)),((1-Inputs!$D$54)*(D15+D16+Inputs!$D$50)-Inputs!$D$54*'Asset Register'!$G$25)/((1-Inputs!$D$54)*(D8*(1-$D$48)-D11)+Inputs!$D$54*D8*Inputs!$D$52/10-D8*(Inputs!$D$52+Inputs!$D$53)),((1-Inputs!$D$54)*(D15+D16)-Inputs!$D$54*'Asset Register'!$G$25)/((1-Inputs!$D$54)*(D8*(1-$D$48-Inputs!$D$51)-D11)+Inputs!$D$54*D8*Inputs!$D$52/10-D8*(Inputs!$D$52+Inputs!$D$53)))>Inputs!$D$16,"Above capacity",MAX(0,(D15+D16+Inputs!$D$50)/(D8*(1-$D$48)-D11-D8*(Inputs!$D$52+Inputs!$D$53)),(D15+D16)/(D8*(1-$D$48-Inputs!$D$51)-D11-D8*(Inputs!$D$52+Inputs!$D$53)),((1-Inputs!$D$54)*(D15+D16+Inputs!$D$50)-Inputs!$D$54*'Asset Register'!$G$25)/((1-Inputs!$D$54)*(D8*(1-$D$48)-D11)+Inputs!$D$54*D8*Inputs!$D$52/10-D8*(Inputs!$D$52+Inputs!$D$53)),((1-Inputs!$D$54)*(D15+D16)-Inputs!$D$54*'Asset Register'!$G$25)/((1-Inputs!$D$54)*(D8*(1-$D$48-Inputs!$D$51)-D11)+Inputs!$D$54*D8*Inputs!$D$52/10-D8*(Inputs!$D$52+Inputs!$D$53)))/Inputs!$D$16)) -> 0.15752237
B45: Scenario switches
B46: Variable cost multiplier | D46: 1.02
B47: Fixed and central multiplier | D47: 1.05
B48: Sales and payments share of revenue | D48: 0.11
B49: Year 1 net package | D49: 7000
B50: Paid occupancy by year | D50: 0.5 | E50: 0.6 | F50: 0.68 | G50: 0.72 | H50: 0.75

Sheet High Performance
B2: High performance case — Livingstone, Zambia · 20 suites · 40 planned weeks · EUR nominal
B3: Illustrative planning case. Not achieved results, not a forecast of demand and not a promised margin.
D5: Year 1 | E5: Year 2 | F5: Year 3 | G5: Year 4 | H5: Year 5
B7: Paid occupancy | D7: =MAX(0,D$50-0) -> 0.6 | E7: =MAX(0,E$50-0) -> 0.7 | F7: =MAX(0,F$50-0) -> 0.78 | G7: =MAX(0,G$50-0) -> 0.82 | H7: =MAX(0,H$50-0) -> 0.85 | J7: Net operating revenue convention: prices are NET of VAT and the tourism levy, which are charged separately to guests and are pass-through, not revenue.
B8: Net package per suite-week (EUR) | D8: =$D$49*1*(1+Inputs!$D$49)^0 -> 7500 | E8: =$D$49*1*(1+Inputs!$D$49)^1 -> 7950 | F8: =$D$49*1*(1+Inputs!$D$49)^2 -> 8427 | G8: =$D$49*1*(1+Inputs!$D$49)^3 -> 8932.62 | H8: =$D$49*1*(1+Inputs!$D$49)^4 -> 9468.5772
B9: Occupied suite-weeks | D9: =Inputs!$D$16*D7 -> 480 | E9: =Inputs!$D$16*E7 -> 560 | F9: =Inputs!$D$16*F7 -> 624 | G9: =Inputs!$D$16*G7 -> 656 | H9: =Inputs!$D$16*H7 -> 680
B10: Net stay revenue | D10: =D9*D8 -> 3600000 | E10: =E9*E8 -> 4452000 | F10: =F9*F8 -> 5258448 | G10: =G9*G8 -> 5859798.7 | H10: =H9*H8 -> 6438632.5
B11: Variable cost per occupied suite-week | D11: =((Inputs!$E$41*$D$46/Capital!$D$6)*(1+Inputs!$D$47)^0+Inputs!$E$42*$D$46*(1+Inputs!$D$48)^0)*1 -> 1211.0351 | E11: =((Inputs!$E$41*$D$46/Capital!$D$6)*(1+Inputs!$D$47)^1+Inputs!$E$42*$D$46*(1+Inputs!$D$48)^1)*1 -> 1260.0722 | F11: =((Inputs!$E$41*$D$46/Capital!$D$6)*(1+Inputs!$D$47)^2+Inputs!$E$42*$D$46*(1+Inputs!$D$48)^2)*1 -> 1311.3428 | G11: =((Inputs!$E$41*$D$46/Capital!$D$6)*(1+Inputs!$D$47)^3+Inputs!$E$42*$D$46*(1+Inputs!$D$48)^3)*1 -> 1364.9596 | H11: =((Inputs!$E$41*$D$46/Capital!$D$6)*(1+Inputs!$D$47)^4+Inputs!$E$42*$D$46*(1+Inputs!$D$48)^4)*1 -> 1421.0415
B12: Variable delivery cost | D12: =D11*D9 -> 581296.85 | E12: =E11*E9 -> 705640.44 | F12: =F11*F9 -> 818277.9 | G12: =G11*G9 -> 895413.5 | H12: =H11*H9 -> 966308.22
B13: Sales and payment costs | D13: =D10*$D$48 -> 360000 | E13: =E10*$D$48 -> 445200 | F13: =F10*$D$48 -> 525844.8 | G13: =G10*$D$48 -> 585979.87 | H13: =H10*$D$48 -> 643863.25
B14: Mission budget | D14: =MAX(Inputs!$D$50*1*(1+Inputs!$D$48)^0,Inputs!$D$51*D10) -> 288000 | E14: =MAX(Inputs!$D$50*1*(1+Inputs!$D$48)^1,Inputs!$D$51*E10) -> 356160 | F14: =MAX(Inputs!$D$50*1*(1+Inputs!$D$48)^2,Inputs!$D$51*F10) -> 420675.84 | G14: =MAX(Inputs!$D$50*1*(1+Inputs!$D$48)^3,Inputs!$D$51*G10) -> 468783.9 | H14: =MAX(Inputs!$D$50*1*(1+Inputs!$D$48)^4,Inputs!$D$51*H10) -> 515090.6
B15: Fixed site cost | D15: =((Inputs!$E$28*$D$47/Capital!$D$6)*(1+Inputs!$D$47)^0+Inputs!$E$29*$D$47*(1+Inputs!$D$48)^0)*1 -> 422473.02 | E15: =((Inputs!$E$28*$D$47/Capital!$D$6)*(1+Inputs!$D$47)^1+Inputs!$E$29*$D$47*(1+Inputs!$D$48)^1)*1 -> 446831.41 | F15: =((Inputs!$E$28*$D$47/Capital!$D$6)*(1+Inputs!$D$47)^2+Inputs!$E$29*$D$47*(1+Inputs!$D$48)^2)*1 -> 472621.59 | G15: =((Inputs!$E$28*$D$47/Capital!$D$6)*(1+Inputs!$D$47)^3+Inputs!$E$29*$D$47*(1+Inputs!$D$48)^3)*1 -> 499928.59 | H15: =((Inputs!$E$28*$D$47/Capital!$D$6)*(1+Inputs!$D$47)^4+Inputs!$E$29*$D$47*(1+Inputs!$D$48)^4)*1 -> 528842.51
B16: Central support | D16: =Inputs!$E$30*$D$47*(1+Inputs!$D$48)^0*1 -> 66000 | E16: =Inputs!$E$30*$D$47*(1+Inputs!$D$48)^1*1 -> 67980 | F16: =Inputs!$E$30*$D$47*(1+Inputs!$D$48)^2*1 -> 70019.4 | G16: =Inputs!$E$30*$D$47*(1+Inputs!$D$48)^3*1 -> 72119.982 | H16: =Inputs!$E$30*$D$47*(1+Inputs!$D$48)^4*1 -> 74283.581
B17: Operating profit / EBITDA | D17: =D10-D12-D13-D14-D15-D16 -> 1882230.1 | E17: =E10-E12-E13-E14-E15-E16 -> 2430188.2 | F17: =F10-F12-F13-F14-F15-F16 -> 2951008.5 | G17: =G10-G12-G13-G14-G15-G16 -> 3337572.9 | H17: =H10-H12-H13-H14-H15-H16 -> 3710244.3
B18: EBITDA margin | D18: =IF(D10=0,0,D17/D10) -> 0.5228417 | E18: =IF(E10=0,0,E17/E10) -> 0.54586437 | F18: =IF(F10=0,0,F17/F10) -> 0.56119381 | G18: =IF(G10=0,0,G17/G10) -> 0.56957125 | H18: =IF(H10=0,0,H17/H10) -> 0.57624726
B19: Replacement capex | D19: =D10*Inputs!$D$52 -> 108000 | E19: =E10*Inputs!$D$52 -> 133560 | F19: =F10*Inputs!$D$52 -> 157753.44 | G19: =G10*Inputs!$D$52 -> 175793.96 | H19: =H10*Inputs!$D$52 -> 193158.97
B20: Depreciation | D20: ='Asset Register'!$G$25+0/5+D19/10 -> 306297.97 | E20: ='Asset Register'!$G$26+SUM($D19:D19)/5+E19/10 -> 330453.97 | F20: ='Asset Register'!$G$27+SUM($D19:E19)/5+F19/10 -> 359585.32 | G20: ='Asset Register'!$G$28+SUM($D19:F19)/5+G19/10 -> 392940.06 | H20: ='Asset Register'!$G$29+SUM($D19:G19)/5+H19/10 -> 429835.35
B21: Accounting profit before tax | D21: =D17-D20 -> 1575932.2 | E21: =E17-E20 -> 2099734.2 | F21: =F17-F20 -> 2591423.1 | G21: =G17-G20 -> 2944632.8 | H21: =H17-H20 -> 3280409
B22: Tax at 30% of positive profit | D22: =MAX(0,D21)*Inputs!$D$54 -> 472779.65 | E22: =MAX(0,E21)*Inputs!$D$54 -> 629920.25 | F22: =MAX(0,F21)*Inputs!$D$54 -> 777426.94 | G22: =MAX(0,G21)*Inputs!$D$54 -> 883389.85 | H22: =MAX(0,H21)*Inputs!$D$54 -> 984122.7
B23: Net accounting profit | D23: =D21-D22 -> 1103152.5 | E23: =E21-E22 -> 1469813.9 | F23: =F21-F22 -> 1813996.2 | G23: =G21-G22 -> 2061243 | H23: =H21-H22 -> 2296286.3
B24: Working capital movement | D24: =(D10-0)*Inputs!$D$53 -> 180000 | E24: =(E10-D10)*Inputs!$D$53 -> 42600 | F24: =(F10-E10)*Inputs!$D$53 -> 40322.4 | G24: =(G10-F10)*Inputs!$D$53 -> 30067.536 | H24: =(H10-G10)*Inputs!$D$53 -> 28941.689
B25: Net cash movement | D25: =D17-D22-D19-D24 -> 1121450.5 | E25: =E17-E22-E19-E24 -> 1624107.9 | F25: =F17-F22-F19-F24 -> 1975505.7 | G25: =G17-G22-G19-G24 -> 2248321.5 | H25: =H17-H22-H19-H24 -> 2504021
B26: Closing cash | D26: =Capital!$D$39+D25 -> 1921450.5 | E26: =D26+E25 -> 3545558.4 | F26: =E26+F25 -> 5521064.1 | G26: =F26+G25 -> 7769385.6 | H26: =G26+H25 -> 10273407
B28: Five-year cumulative net cash | D28: =SUM(D25:H25) -> 9473406.6
B29: Five-year cumulative mission spend | D29: =SUM(D14:H14) -> 2048710.3
B30: Year 1 EBITDA breakeven occupancy (excludes replacement, working capital and tax) | D30: =IF(OR(D8*(1-$D$48)-D11<=0,D8*(1-$D$48-Inputs!$D$51)-D11<=0),"Infeasible",IF(MAX((D15+D16+Inputs!$D$50)/(D8*(1-$D$48)-D11),(D15+D16)/(D8*(1-$D$48-Inputs!$D$51)-D11))>Inputs!$D$16,"Above capacity",MAX((D15+D16+Inputs!$D$50)/(D8*(1-$D$48)-D11),(D15+D16)/(D8*(1-$D$48-Inputs!$D$51)-D11))/Inputs!$D$16)) -> 0.13280302
B31: Year 1 EBITDA breakeven net package at forecast paid suite-weeks | D31: =IF(OR(D9<=0,1-$D$48<=0,1-$D$48-Inputs!$D$51<=0),"Infeasible",MAX((D15+D16+D11*D9+Inputs!$D$50)/(D9*(1-$D$48)),(D15+D16+D11*D9)/(D9*(1-$D$48-Inputs!$D$51)))) -> 2717.9113
B32: Year 1 cash breakeven occupancy (tax, replacement and initial working capital included) | D32: =IF(OR(D8*(1-$D$48)-D11-D8*(Inputs!$D$52+Inputs!$D$53)<=0,D8*(1-$D$48-Inputs!$D$51)-D11-D8*(Inputs!$D$52+Inputs!$D$53)<=0,(1-Inputs!$D$54)*(D8*(1-$D$48)-D11)+Inputs!$D$54*D8*Inputs!$D$52/10-D8*(Inputs!$D$52+Inputs!$D$53)<=0,(1-Inputs!$D$54)*(D8*(1-$D$48-Inputs!$D$51)-D11)+Inputs!$D$54*D8*Inputs!$D$52/10-D8*(Inputs!$D$52+Inputs!$D$53)<=0),"Infeasible",IF(MAX((D15+D16+Inputs!$D$50)/(D8*(1-$D$48)-D11-D8*(Inputs!$D$52+Inputs!$D$53)),(D15+D16)/(D8*(1-$D$48-Inputs!$D$51)-D11-D8*(Inputs!$D$52+Inputs!$D$53)),((1-Inputs!$D$54)*(D15+D16+Inputs!$D$50)-Inputs!$D$54*'Asset Register'!$G$25)/((1-Inputs!$D$54)*(D8*(1-$D$48)-D11)+Inputs!$D$54*D8*Inputs!$D$52/10-D8*(Inputs!$D$52+Inputs!$D$53)),((1-Inputs!$D$54)*(D15+D16)-Inputs!$D$54*'Asset Register'!$G$25)/((1-Inputs!$D$54)*(D8*(1-$D$48-Inputs!$D$51)-D11)+Inputs!$D$54*D8*Inputs!$D$52/10-D8*(Inputs!$D$52+Inputs!$D$53)))>Inputs!$D$16,"Above capacity",MAX(0,(D15+D16+Inputs!$D$50)/(D8*(1-$D$48)-D11-D8*(Inputs!$D$52+Inputs!$D$53)),(D15+D16)/(D8*(1-$D$48-Inputs!$D$51)-D11-D8*(Inputs!$D$52+Inputs!$D$53)),((1-Inputs!$D$54)*(D15+D16+Inputs!$D$50)-Inputs!$D$54*'Asset Register'!$G$25)/((1-Inputs!$D$54)*(D8*(1-$D$48)-D11)+Inputs!$D$54*D8*Inputs!$D$52/10-D8*(Inputs!$D$52+Inputs!$D$53)),((1-Inputs!$D$54)*(D15+D16)-Inputs!$D$54*'Asset Register'!$G$25)/((1-Inputs!$D$54)*(D8*(1-$D$48-Inputs!$D$51)-D11)+Inputs!$D$54*D8*Inputs!$D$52/10-D8*(Inputs!$D$52+Inputs!$D$53)))/Inputs!$D$16)) -> 0.14893632
B45: Scenario switches
B46: Variable cost multiplier | D46: 1.05
B47: Fixed and central multiplier | D47: 1.1
B48: Sales and payments share of revenue | D48: 0.1
B49: Year 1 net package | D49: 7500
B50: Paid occupancy by year | D50: 0.6 | E50: 0.7 | F50: 0.78 | G50: 0.82 | H50: 0.85

Sheet Monthly Year 1
B2: Conservative Year 1 monthly cash — 0 bookable weeks in January and February, 4 weeks March to December
B3: Tax is spread evenly as a planning timing convention. It is NOT the statutory payment calendar.
D5: Jan | E5: Feb | F5: Mar | G5: Apr | H5: May | I5: Jun | J5: Jul | K5: Aug | L5: Sep | M5: Oct | N5: Nov | O5: Dec | Q5: Year 1 total
B6: Bookable weeks | D6: =Regions!G8 -> 0 | E6: =Regions!H8 -> 0 | F6: =Regions!I8 -> 4 | G6: =Regions!J8 -> 4 | H6: =Regions!K8 -> 4 | I6: =Regions!L8 -> 4 | J6: =Regions!M8 -> 4 | K6: =Regions!N8 -> 4 | ... O6: =Regions!R8 -> 4 | Q6: =SUM(D6:O6) -> 40
B7: Occupied suite-weeks | D7: =IF($Q$6=0,0,'Five Year'!$D$9*D6/$Q$6) -> 0 | E7: =IF($Q$6=0,0,'Five Year'!$D$9*E6/$Q$6) -> 0 | F7: =IF($Q$6=0,0,'Five Year'!$D$9*F6/$Q$6) -> 32 | G7: =IF($Q$6=0,0,'Five Year'!$D$9*G6/$Q$6) -> 32 | H7: =IF($Q$6=0,0,'Five Year'!$D$9*H6/$Q$6) -> 32 | I7: =IF($Q$6=0,0,'Five Year'!$D$9*I6/$Q$6) -> 32 | J7: =IF($Q$6=0,0,'Five Year'!$D$9*J6/$Q$6) -> 32 | K7: =IF($Q$6=0,0,'Five Year'!$D$9*K6/$Q$6) -> 32 | ... O7: =IF($Q$6=0,0,'Five Year'!$D$9*O6/$Q$6) -> 32 | Q7: =SUM(D7:O7) -> 320 | S7: January and February carry full fixed cost, the monthly mission floor, planning tax and working capital with no revenue.
B8: Net stay revenue | D8: =D7*'Five Year'!$D$8 -> 0 | E8: =E7*'Five Year'!$D$8 -> 0 | F8: =F7*'Five Year'!$D$8 -> 208000 | G8: =G7*'Five Year'!$D$8 -> 208000 | H8: =H7*'Five Year'!$D$8 -> 208000 | I8: =I7*'Five Year'!$D$8 -> 208000 | J8: =J7*'Five Year'!$D$8 -> 208000 | K8: =K7*'Five Year'!$D$8 -> 208000 | ... O8: =O7*'Five Year'!$D$8 -> 208000 | Q8: =SUM(D8:O8) -> 2080000
B9: Variable delivery cost | D9: =D7*'Five Year'!$D$11 -> 0 | E9: =E7*'Five Year'!$D$11 -> 0 | F9: =F7*'Five Year'!$D$11 -> 36907.737 | G9: =G7*'Five Year'!$D$11 -> 36907.737 | H9: =H7*'Five Year'!$D$11 -> 36907.737 | I9: =I7*'Five Year'!$D$11 -> 36907.737 | J9: =J7*'Five Year'!$D$11 -> 36907.737 | K9: =K7*'Five Year'!$D$11 -> 36907.737 | ... O9: =O7*'Five Year'!$D$11 -> 36907.737 | Q9: =SUM(D9:O9) -> 369077.37
B10: Sales and payment costs | D10: =D8*'Five Year'!$D$48 -> 0 | E10: =E8*'Five Year'!$D$48 -> 0 | F10: =F8*'Five Year'!$D$48 -> 24960 | G10: =G8*'Five Year'!$D$48 -> 24960 | H10: =H8*'Five Year'!$D$48 -> 24960 | I10: =I8*'Five Year'!$D$48 -> 24960 | J10: =J8*'Five Year'!$D$48 -> 24960 | K10: =K8*'Five Year'!$D$48 -> 24960 | ... O10: =O8*'Five Year'!$D$48 -> 24960 | Q10: =SUM(D10:O10) -> 249600
B11: Mission spend | D11: =Inputs!$D$50/12+IF(D6>0,('Five Year'!$D$14-Inputs!$D$50)/COUNTIF($D$6:$O$6,">0"),0) -> 8333.3333 | E11: =Inputs!$D$50/12+IF(E6>0,('Five Year'!$D$14-Inputs!$D$50)/COUNTIF($D$6:$O$6,">0"),0) -> 8333.3333 | F11: =Inputs!$D$50/12+IF(F6>0,('Five Year'!$D$14-Inputs!$D$50)/COUNTIF($D$6:$O$6,">0"),0) -> 14973.333 | G11: =Inputs!$D$50/12+IF(G6>0,('Five Year'!$D$14-Inputs!$D$50)/COUNTIF($D$6:$O$6,">0"),0) -> 14973.333 | H11: =Inputs!$D$50/12+IF(H6>0,('Five Year'!$D$14-Inputs!$D$50)/COUNTIF($D$6:$O$6,">0"),0) -> 14973.333 | I11: =Inputs!$D$50/12+IF(I6>0,('Five Year'!$D$14-Inputs!$D$50)/COUNTIF($D$6:$O$6,">0"),0) -> 14973.333 | J11: =Inputs!$D$50/12+IF(J6>0,('Five Year'!$D$14-Inputs!$D$50)/COUNTIF($D$6:$O$6,">0"),0) -> 14973.333 | K11: =Inputs!$D$50/12+IF(K6>0,('Five Year'!$D$14-Inputs!$D$50)/COUNTIF($D$6:$O$6,">0"),0) -> 14973.333 | ... O11: =Inputs!$D$50/12+IF(O6>0,('Five Year'!$D$14-Inputs!$D$50)/COUNTIF($D$6:$O$6,">0"),0) -> 14973.333 | Q11: =SUM(D11:O11) -> 166400
B12: Fixed site cost | D12: ='Five Year'!$D$15/12 -> 32005.532 | E12: ='Five Year'!$D$15/12 -> 32005.532 | F12: ='Five Year'!$D$15/12 -> 32005.532 | G12: ='Five Year'!$D$15/12 -> 32005.532 | H12: ='Five Year'!$D$15/12 -> 32005.532 | I12: ='Five Year'!$D$15/12 -> 32005.532 | J12: ='Five Year'!$D$15/12 -> 32005.532 | K12: ='Five Year'!$D$15/12 -> 32005.532 | ... O12: ='Five Year'!$D$15/12 -> 32005.532 | Q12: =SUM(D12:O12) -> 384066.39
B13: Central support | D13: ='Five Year'!$D$16/12 -> 5000 | E13: ='Five Year'!$D$16/12 -> 5000 | F13: ='Five Year'!$D$16/12 -> 5000 | G13: ='Five Year'!$D$16/12 -> 5000 | H13: ='Five Year'!$D$16/12 -> 5000 | I13: ='Five Year'!$D$16/12 -> 5000 | J13: ='Five Year'!$D$16/12 -> 5000 | K13: ='Five Year'!$D$16/12 -> 5000 | ... O13: ='Five Year'!$D$16/12 -> 5000 | Q13: =SUM(D13:O13) -> 60000
B14: Tax (planning timing) | D14: ='Five Year'!$D$22/12 -> 13727.957 | E14: ='Five Year'!$D$22/12 -> 13727.957 | F14: ='Five Year'!$D$22/12 -> 13727.957 | G14: ='Five Year'!$D$22/12 -> 13727.957 | H14: ='Five Year'!$D$22/12 -> 13727.957 | I14: ='Five Year'!$D$22/12 -> 13727.957 | J14: ='Five Year'!$D$22/12 -> 13727.957 | K14: ='Five Year'!$D$22/12 -> 13727.957 | ... O14: ='Five Year'!$D$22/12 -> 13727.957 | Q14: =SUM(D14:O14) -> 164735.48
B15: Working capital movement | D15: ='Five Year'!$D$24/12 -> 8666.6667 | E15: ='Five Year'!$D$24/12 -> 8666.6667 | F15: ='Five Year'!$D$24/12 -> 8666.6667 | G15: ='Five Year'!$D$24/12 -> 8666.6667 | H15: ='Five Year'!$D$24/12 -> 8666.6667 | I15: ='Five Year'!$D$24/12 -> 8666.6667 | J15: ='Five Year'!$D$24/12 -> 8666.6667 | K15: ='Five Year'!$D$24/12 -> 8666.6667 | ... O15: ='Five Year'!$D$24/12 -> 8666.6667 | Q15: =SUM(D15:O15) -> 104000
B16: Replacement capex | D16: =D8*Inputs!$D$52 -> 0 | E16: =E8*Inputs!$D$52 -> 0 | F16: =F8*Inputs!$D$52 -> 6240 | G16: =G8*Inputs!$D$52 -> 6240 | H16: =H8*Inputs!$D$52 -> 6240 | I16: =I8*Inputs!$D$52 -> 6240 | J16: =J8*Inputs!$D$52 -> 6240 | K16: =K8*Inputs!$D$52 -> 6240 | ... O16: =O8*Inputs!$D$52 -> 6240 | Q16: =SUM(D16:O16) -> 62400
B17: Net cash movement | D17: =D8-D9-D10-D11-D12-D13-D14-D15-D16 -> -67733.489 | E17: =E8-E9-E10-E11-E12-E13-E14-E15-E16 -> -67733.489 | F17: =F8-F9-F10-F11-F12-F13-F14-F15-F16 -> 65518.774 | G17: =G8-G9-G10-G11-G12-G13-G14-G15-G16 -> 65518.774 | H17: =H8-H9-H10-H11-H12-H13-H14-H15-H16 -> 65518.774 | I17: =I8-I9-I10-I11-I12-I13-I14-I15-I16 -> 65518.774 | J17: =J8-J9-J10-J11-J12-J13-J14-J15-J16 -> 65518.774 | K17: =K8-K9-K10-K11-K12-K13-K14-K15-K16 -> 65518.774 | ... O17: =O8-O9-O10-O11-O12-O13-O14-O15-O16 -> 65518.774 | Q17: =SUM(D17:O17) -> 519720.77
B18: Closing cash | D18: =Capital!$D$39+D17 -> 732266.51 | E18: =D18+E17 -> 664533.02 | F18: =E18+F17 -> 730051.8 | G18: =F18+G17 -> 795570.57 | H18: =G18+H17 -> 861089.35 | I18: =H18+I17 -> 926608.12 | J18: =I18+J17 -> 992126.89 | K18: =J18+K17 -> 1057645.7 | L18: =K18+L17 -> 1123164.4 | ... O18: =N18+O17 -> 1319720.8
B20: Lowest monthly cash in Year 1 | D20: =MIN(D18:O18) -> 664533.02
B21: Cash floor | D21: =Inputs!D56 -> 300000

Sheet Stress
B2: Stress tests — conservative demand case, committed funding held fixed at the base case
B3: Never presented as all-pass. The capital overrun, combined and delay-combined stresses fall below the cash floor and require additional committed liquidity.
D5: Base | E5: Commercial downside | F5: 20% stronger Kwacha | G5: 20% capex + local overrun | H5: Combined stress | I5: Six-month construction delay | J5: Combined stress plus delay
B6: Occupancy reduction (percentage points) | D6: 0 | E6: 0.1 | F6: 0 | G6: 0 | H6: 0.1 | I6: 0 | J6: 0.1 | Q6: =SUM(Regions!G8:R8) -> 40
B7: Price multiplier | D7: 1 | E7: 0.9 | F7: 1 | G7: 1 | H7: 0.9 | I7: 1 | J7: 0.9
B8: Cash cost multiplier | D8: 1 | E8: 1.1 | F8: 1 | G8: 1 | H8: 1.1 | I8: 1 | J8: 1.1
B9: Mission floor multiplier | D9: 1 | E9: 1.1 | F9: 1 | G9: 1 | H9: 1.1 | I9: 1 | J9: 1.1
B10: Local cost overrun multiplier | D10: 1 | E10: 1 | F10: 1 | G10: 1.2 | H10: 1.2 | I10: 1 | J10: 1.2
B11: ZMW per EUR applied | D11: =Capital!D6 -> 22.3122 | E11: =Capital!E6 -> 22.3122 | F11: =Capital!F6 -> 18.5935 | G11: =Capital!G6 -> 22.3122 | H11: =Capital!H6 -> 18.5935 | I11: =Capital!I6 -> 22.3122 | J11: =Capital!J6 -> 18.5935
B12: Capex overrun multiplier | D12: =Capital!D7 -> 1 | E12: =Capital!E7 -> 1 | F12: =Capital!F7 -> 1 | G12: =Capital!G7 -> 1.2 | H12: =Capital!H7 -> 1.2 | I12: =Capital!I7 -> 1 | J12: =Capital!J7 -> 1.2
B14: Cash available at handover (negative is an unfunded gap) | D14: =Capital!D39 -> 800000 | E14: =Capital!E39 -> 800000 | F14: =Capital!F39 -> 297136.1 | G14: =Capital!G39 -> 92359.191 | H14: =Capital!H39 -> -504623.63 | I14: =Capital!I39 -> 587855.31 | J14: =Capital!J39 -> -760750.38
B15: Year 1 net cash movement | D15: =D48 -> 519720.77 | E15: =D90 -> 208759.7 | F15: =D132 -> 461007.02 | G15: =D174 -> 469810.52 | H15: =D216 -> -305.06467 | I15: =D258 -> 521848.35 | J15: =D300 -> -305.06467
B16: Year 5 closing cash | D16: =H49 -> 5903992.8 | E16: =H91 -> 3717942.2 | F16: =H133 -> 5028001.9 | G16: =H175 -> 4867242.4 | H16: =H217 -> 1504336.8 | I16: =H259 -> 5702486 | J16: =H301 -> 1256640.6
B17: Five-year cumulative net cash | D17: =SUM(D48:H48) -> 5103992.8 | E17: =SUM(D90:H90) -> 2917942.2 | F17: =SUM(D132:H132) -> 4730865.8 | G17: =SUM(D174:H174) -> 4774883.3 | H17: =SUM(D216:H216) -> 2008960.4 | I17: =SUM(D258:H258) -> 5114630.7 | J17: =SUM(D300:H300) -> 2017390.9
B18: Lowest month across five years | D18: =D58 -> 664533.02 | E18: =D100 -> 687028.09 | F18: =D142 -> 156186.07 | G18: =D184 -> -47123.582 | H18: =D226 -> -644630.48 | I18: =D268 -> 452742.93 | J18: =D310 -> -900757.24
B19: Cash floor breach | D19: =MAX(0,Inputs!$D$56-D18) -> 0 | E19: =MAX(0,Inputs!$D$56-E18) -> 0 | F19: =MAX(0,Inputs!$D$56-F18) -> 143813.93 | G19: =MAX(0,Inputs!$D$56-G18) -> 347123.58 | H19: =MAX(0,Inputs!$D$56-H18) -> 944630.48 | I19: =MAX(0,Inputs!$D$56-I18) -> 0 | J19: =MAX(0,Inputs!$D$56-J18) -> 1200757.2 | L19: The worst shortfall against the EUR 300,000 floor drives the additional committed liquidity disclosed below. Not every stress passes.
B21: Additional committed liquidity disclosed | D21: =Capital!D40 -> 1210000
B22: Stress-covered committed funding | D22: =Capital!D41 -> 5829550.8
B28: Base — five-year detail
D29: Year 1 | E29: Year 2 | F29: Year 3 | G29: Year 4 | H29: Year 5
B30: Paid occupancy | D30: =MAX(0,'Five Year'!D$50-$D$6) -> 0.4 | E30: =MAX(0,'Five Year'!E$50-$D$6) -> 0.48 | F30: =MAX(0,'Five Year'!F$50-$D$6) -> 0.55 | G30: =MAX(0,'Five Year'!G$50-$D$6) -> 0.6 | H30: =MAX(0,'Five Year'!H$50-$D$6) -> 0.65
B31: Net package per suite-week (EUR) | D31: ='Five Year'!$D$49*$D$7*(1+Inputs!$D$49)^0 -> 6500 | E31: ='Five Year'!$D$49*$D$7*(1+Inputs!$D$49)^1 -> 6890 | F31: ='Five Year'!$D$49*$D$7*(1+Inputs!$D$49)^2 -> 7303.4 | G31: ='Five Year'!$D$49*$D$7*(1+Inputs!$D$49)^3 -> 7741.604 | H31: ='Five Year'!$D$49*$D$7*(1+Inputs!$D$49)^4 -> 8206.1002
B32: Occupied suite-weeks | D32: =Inputs!$D$16*D30 -> 320 | E32: =Inputs!$D$16*E30 -> 384 | F32: =Inputs!$D$16*F30 -> 440 | G32: =Inputs!$D$16*G30 -> 480 | H32: =Inputs!$D$16*H30 -> 520
B33: Net stay revenue | D33: =D32*D31 -> 2080000 | E33: =E32*E31 -> 2645760 | F33: =F32*F31 -> 3213496 | G33: =G32*G31 -> 3715969.9 | H33: =H32*H31 -> 4267172.1
B34: Variable cost per occupied suite-week | D34: =((Inputs!$E$41*'Five Year'!$D$46*$D$10/Capital!$D$6)*(1+Inputs!$D$47)^0+Inputs!$E$42*'Five Year'!$D$46*(1+Inputs!$D$48)^0)*$D$8 -> 1153.3668 | E34: =((Inputs!$E$41*'Five Year'!$D$46*$D$10/Capital!$D$6)*(1+Inputs!$D$47)^1+Inputs!$E$42*'Five Year'!$D$46*(1+Inputs!$D$48)^1)*$D$8 -> 1200.0688 | F34: =((Inputs!$E$41*'Five Year'!$D$46*$D$10/Capital!$D$6)*(1+Inputs!$D$47)^2+Inputs!$E$42*'Five Year'!$D$46*(1+Inputs!$D$48)^2)*$D$8 -> 1248.8979 | G34: =((Inputs!$E$41*'Five Year'!$D$46*$D$10/Capital!$D$6)*(1+Inputs!$D$47)^3+Inputs!$E$42*'Five Year'!$D$46*(1+Inputs!$D$48)^3)*$D$8 -> 1299.9615 | H34: =((Inputs!$E$41*'Five Year'!$D$46*$D$10/Capital!$D$6)*(1+Inputs!$D$47)^4+Inputs!$E$42*'Five Year'!$D$46*(1+Inputs!$D$48)^4)*$D$8 -> 1353.3729
B35: Variable delivery cost | D35: =D34*D32 -> 369077.37 | E35: =E34*E32 -> 460826.41 | F35: =F34*F32 -> 549515.08 | G35: =G34*G32 -> 623981.53 | H35: =H34*H32 -> 703753.89
B36: Sales and payment costs | D36: =D33*'Five Year'!$D$48 -> 249600 | E36: =E33*'Five Year'!$D$48 -> 317491.2 | F36: =F33*'Five Year'!$D$48 -> 385619.52 | G36: =G33*'Five Year'!$D$48 -> 445916.39 | H36: =H33*'Five Year'!$D$48 -> 512060.65
B37: Mission budget | D37: =MAX(Inputs!$D$50*$D$9*(1+Inputs!$D$48)^0,Inputs!$D$51*D33) -> 166400 | E37: =MAX(Inputs!$D$50*$D$9*(1+Inputs!$D$48)^1,Inputs!$D$51*E33) -> 211660.8 | F37: =MAX(Inputs!$D$50*$D$9*(1+Inputs!$D$48)^2,Inputs!$D$51*F33) -> 257079.68 | G37: =MAX(Inputs!$D$50*$D$9*(1+Inputs!$D$48)^3,Inputs!$D$51*G33) -> 297277.59 | H37: =MAX(Inputs!$D$50*$D$9*(1+Inputs!$D$48)^4,Inputs!$D$51*H33) -> 341373.77
B38: Fixed site cost | D38: =((Inputs!$E$28*'Five Year'!$D$47*$D$10/Capital!$D$6)*(1+Inputs!$D$47)^0+Inputs!$E$29*'Five Year'!$D$47*(1+Inputs!$D$48)^0)*$D$8 -> 384066.39 | E38: =((Inputs!$E$28*'Five Year'!$D$47*$D$10/Capital!$D$6)*(1+Inputs!$D$47)^1+Inputs!$E$29*'Five Year'!$D$47*(1+Inputs!$D$48)^1)*$D$8 -> 406210.37 | F38: =((Inputs!$E$28*'Five Year'!$D$47*$D$10/Capital!$D$6)*(1+Inputs!$D$47)^2+Inputs!$E$29*'Five Year'!$D$47*(1+Inputs!$D$48)^2)*$D$8 -> 429655.99 | G38: =((Inputs!$E$28*'Five Year'!$D$47*$D$10/Capital!$D$6)*(1+Inputs!$D$47)^3+Inputs!$E$29*'Five Year'!$D$47*(1+Inputs!$D$48)^3)*$D$8 -> 454480.54 | H38: =((Inputs!$E$28*'Five Year'!$D$47*$D$10/Capital!$D$6)*(1+Inputs!$D$47)^4+Inputs!$E$29*'Five Year'!$D$47*(1+Inputs!$D$48)^4)*$D$8 -> 480765.92
B39: Central support | D39: =Inputs!$E$30*'Five Year'!$D$47*(1+Inputs!$D$48)^0*$D$8 -> 60000 | E39: =Inputs!$E$30*'Five Year'!$D$47*(1+Inputs!$D$48)^1*$D$8 -> 61800 | F39: =Inputs!$E$30*'Five Year'!$D$47*(1+Inputs!$D$48)^2*$D$8 -> 63654 | G39: =Inputs!$E$30*'Five Year'!$D$47*(1+Inputs!$D$48)^3*$D$8 -> 65563.62 | H39: =Inputs!$E$30*'Five Year'!$D$47*(1+Inputs!$D$48)^4*$D$8 -> 67530.529
B40: Operating profit / EBITDA | D40: =D33-D35-D36-D37-D38-D39 -> 850856.25 | E40: =E33-E35-E36-E37-E38-E39 -> 1187771.2 | F40: =F33-F35-F36-F37-F38-F39 -> 1527971.7 | G40: =G33-G35-G36-G37-G38-G39 -> 1828750.2 | H40: =H33-H35-H36-H37-H38-H39 -> 2161687.4
B41: EBITDA margin | D41: =IF(D33=0,0,D40/D33) -> 0.4090655 | E41: =IF(E33=0,0,E40/E33) -> 0.44893385 | F41: =IF(F33=0,0,F40/F33) -> 0.47548581 | G41: =IF(G33=0,0,G40/G33) -> 0.49213268 | H41: =IF(H33=0,0,H40/H33) -> 0.50658546
B42: Replacement capex | D42: =D33*Inputs!$D$52 -> 62400 | E42: =E33*Inputs!$D$52 -> 79372.8 | F42: =F33*Inputs!$D$52 -> 96404.88 | G42: =G33*Inputs!$D$52 -> 111479.1 | H42: =H33*Inputs!$D$52 -> 128015.16
B43: Depreciation | D43: ='Asset Register'!$G$25+0/5+D42/10 -> 301737.97 | E43: ='Asset Register'!$G$26+SUM($D42:D42)/5+E42/10 -> 315915.25 | F43: ='Asset Register'!$G$27+SUM($D42:E42)/5+F42/10 -> 333493.02 | G43: ='Asset Register'!$G$28+SUM($D42:F42)/5+G42/10 -> 354281.42 | H43: ='Asset Register'!$G$29+SUM($D42:G42)/5+H42/10 -> 378230.84
B44: Accounting profit before tax | D44: =D40-D43 -> 549118.28 | E44: =E40-E43 -> 871855.97 | F44: =F40-F43 -> 1194478.7 | G44: =G40-G43 -> 1474468.8 | H44: =H40-H43 -> 1783456.5
B45: Tax at 30% of positive profit | D45: =MAX(0,D44)*Inputs!$D$54 -> 164735.48 | E45: =MAX(0,E44)*Inputs!$D$54 -> 261556.79 | F45: =MAX(0,F44)*Inputs!$D$54 -> 358343.61 | G45: =MAX(0,G44)*Inputs!$D$54 -> 442340.65 | H45: =MAX(0,H44)*Inputs!$D$54 -> 535036.96
B46: Net accounting profit | D46: =D44-D45 -> 384382.79 | E46: =E44-E45 -> 610299.18 | F46: =F44-F45 -> 836135.1 | G46: =G44-G45 -> 1032128.2 | H46: =H44-H45 -> 1248419.6
B47: Working capital movement | D47: =(D33-0)*Inputs!$D$53 -> 104000 | E47: =(E33-D33)*Inputs!$D$53 -> 28288 | F47: =(F33-E33)*Inputs!$D$53 -> 28386.8 | G47: =(G33-F33)*Inputs!$D$53 -> 25123.696 | H47: =(H33-G33)*Inputs!$D$53 -> 27560.11
B48: Net cash movement | D48: =D40-D45-D42-D47 -> 519720.77 | E48: =E40-E45-E42-E47 -> 818553.63 | F48: =F40-F45-F42-F47 -> 1044836.4 | G48: =G40-G45-G42-G47 -> 1249806.8 | H48: =H40-H45-H42-H47 -> 1471075.1
B49: Closing cash | D49: =Capital!$D$39+D48 -> 1319720.8 | E49: =D49+E48 -> 2138274.4 | F49: =E49+F48 -> 3183110.8 | G49: =F49+G48 -> 4432917.6 | H49: =G49+H48 -> 5903992.8
...

Sheet Sensitivity
B2: Year 1 net cash movement — occupancy against net package (conservative cost base)
B3: A planning sensitivity grid, not a probability distribution.
B5: Occupancy \ Net package | D5: 5500 | E5: 6000 | F5: 6500 | G5: 7000 | H5: 7500
B6: 0.3 | D6: =((Inputs!$D$16*$B6*D$5)-('Five Year'!$D$11*Inputs!$D$16*$B6)-(Inputs!$D$16*$B6*D$5)*'Five Year'!$D$48-MAX(Inputs!$D$50,Inputs!$D$51*(Inputs!$D$16*$B6*D$5))-'Five Year'!$D$15-'Five Year'!$D$16)-MAX(0,((Inputs!$D$16*$B6*D$5)-('Five Year'!$D$11*Inputs!$D$16*$B6)-(Inputs!$D$16*$B6*D$5)*'Five Year'!$D$48-MAX(Inputs!$D$50,Inputs!$D$51*(Inputs!$D$16*$B6*D$5))-'Five Year'!$D$15-'Five Year'!$D$16)-('Asset Register'!$G$25+(Inputs!$D$16*$B6*D$5)*Inputs!$D$52/10))*Inputs!$D$54-(Inputs!$D$16*$B6*D$5)*Inputs!$D$52-(Inputs!$D$16*$B6*D$5)*Inputs!$D$53 -> 218825.31 | E6: =((Inputs!$D$16*$B6*E$5)-('Five Year'!$D$11*Inputs!$D$16*$B6)-(Inputs!$D$16*$B6*E$5)*'Five Year'!$D$48-MAX(Inputs!$D$50,Inputs!$D$51*(Inputs!$D$16*$B6*E$5))-'Five Year'!$D$15-'Five Year'!$D$16)-MAX(0,((Inputs!$D$16*$B6*E$5)-('Five Year'!$D$11*Inputs!$D$16*$B6)-(Inputs!$D$16*$B6*E$5)*'Five Year'!$D$48-MAX(Inputs!$D$50,Inputs!$D$51*(Inputs!$D$16*$B6*E$5))-'Five Year'!$D$15-'Five Year'!$D$16)-('Asset Register'!$G$25+(Inputs!$D$16*$B6*E$5)*Inputs!$D$52/10))*Inputs!$D$54-(Inputs!$D$16*$B6*E$5)*Inputs!$D$52-(Inputs!$D$16*$B6*E$5)*Inputs!$D$53 -> 276533.31 | F6: =((Inputs!$D$16*$B6*F$5)-('Five Year'!$D$11*Inputs!$D$16*$B6)-(Inputs!$D$16*$B6*F$5)*'Five Year'!$D$48-MAX(Inputs!$D$50,Inputs!$D$51*(Inputs!$D$16*$B6*F$5))-'Five Year'!$D$15-'Five Year'!$D$16)-MAX(0,((Inputs!$D$16*$B6*F$5)-('Five Year'!$D$11*Inputs!$D$16*$B6)-(Inputs!$D$16*$B6*F$5)*'Five Year'!$D$48-MAX(Inputs!$D$50,Inputs!$D$51*(Inputs!$D$16*$B6*F$5))-'Five Year'!$D$15-'Five Year'!$D$16)-('Asset Register'!$G$25+(Inputs!$D$16*$B6*F$5)*Inputs!$D$52/10))*Inputs!$D$54-(Inputs!$D$16*$B6*F$5)*Inputs!$D$52-(Inputs!$D$16*$B6*F$5)*Inputs!$D$53 -> 334241.31 | G6: =((Inputs!$D$16*$B6*G$5)-('Five Year'!$D$11*Inputs!$D$16*$B6)-(Inputs!$D$16*$B6*G$5)*'Five Year'!$D$48-MAX(Inputs!$D$50,Inputs!$D$51*(Inputs!$D$16*$B6*G$5))-'Five Year'!$D$15-'Five Year'!$D$16)-MAX(0,((Inputs!$D$16*$B6*G$5)-('Five Year'!$D$11*Inputs!$D$16*$B6)-(Inputs!$D$16*$B6*G$5)*'Five Year'!$D$48-MAX(Inputs!$D$50,Inputs!$D$51*(Inputs!$D$16*$B6*G$5))-'Five Year'!$D$15-'Five Year'!$D$16)-('Asset Register'!$G$25+(Inputs!$D$16*$B6*G$5)*Inputs!$D$52/10))*Inputs!$D$54-(Inputs!$D$16*$B6*G$5)*Inputs!$D$52-(Inputs!$D$16*$B6*G$5)*Inputs!$D$53 -> 391949.31 | H6: =((Inputs!$D$16*$B6*H$5)-('Five Year'!$D$11*Inputs!$D$16*$B6)-(Inputs!$D$16*$B6*H$5)*'Five Year'!$D$48-MAX(Inputs!$D$50,Inputs!$D$51*(Inputs!$D$16*$B6*H$5))-'Five Year'!$D$15-'Five Year'!$D$16)-MAX(0,((Inputs!$D$16*$B6*H$5)-('Five Year'!$D$11*Inputs!$D$16*$B6)-(Inputs!$D$16*$B6*H$5)*'Five Year'!$D$48-MAX(Inputs!$D$50,Inputs!$D$51*(Inputs!$D$16*$B6*H$5))-'Five Year'!$D$15-'Five Year'!$D$16)-('Asset Register'!$G$25+(Inputs!$D$16*$B6*H$5)*Inputs!$D$52/10))*Inputs!$D$54-(Inputs!$D$16*$B6*H$5)*Inputs!$D$52-(Inputs!$D$16*$B6*H$5)*Inputs!$D$53 -> 449657.31
B7: 0.35 | D7: =((Inputs!$D$16*$B7*D$5)-('Five Year'!$D$11*Inputs!$D$16*$B7)-(Inputs!$D$16*$B7*D$5)*'Five Year'!$D$48-MAX(Inputs!$D$50,Inputs!$D$51*(Inputs!$D$16*$B7*D$5))-'Five Year'!$D$15-'Five Year'!$D$16)-MAX(0,((Inputs!$D$16*$B7*D$5)-('Five Year'!$D$11*Inputs!$D$16*$B7)-(Inputs!$D$16*$B7*D$5)*'Five Year'!$D$48-MAX(Inputs!$D$50,Inputs!$D$51*(Inputs!$D$16*$B7*D$5))-'Five Year'!$D$15-'Five Year'!$D$16)-('Asset Register'!$G$25+(Inputs!$D$16*$B7*D$5)*Inputs!$D$52/10))*Inputs!$D$54-(Inputs!$D$16*$B7*D$5)*Inputs!$D$52-(Inputs!$D$16*$B7*D$5)*Inputs!$D$53 -> 292329.04 | E7: =((Inputs!$D$16*$B7*E$5)-('Five Year'!$D$11*Inputs!$D$16*$B7)-(Inputs!$D$16*$B7*E$5)*'Five Year'!$D$48-MAX(Inputs!$D$50,Inputs!$D$51*(Inputs!$D$16*$B7*E$5))-'Five Year'!$D$15-'Five Year'!$D$16)-MAX(0,((Inputs!$D$16*$B7*E$5)-('Five Year'!$D$11*Inputs!$D$16*$B7)-(Inputs!$D$16*$B7*E$5)*'Five Year'!$D$48-MAX(Inputs!$D$50,Inputs!$D$51*(Inputs!$D$16*$B7*E$5))-'Five Year'!$D$15-'Five Year'!$D$16)-('Asset Register'!$G$25+(Inputs!$D$16*$B7*E$5)*Inputs!$D$52/10))*Inputs!$D$54-(Inputs!$D$16*$B7*E$5)*Inputs!$D$52-(Inputs!$D$16*$B7*E$5)*Inputs!$D$53 -> 359655.04 | F7: =((Inputs!$D$16*$B7*F$5)-('Five Year'!$D$11*Inputs!$D$16*$B7)-(Inputs!$D$16*$B7*F$5)*'Five Year'!$D$48-MAX(Inputs!$D$50,Inputs!$D$51*(Inputs!$D$16*$B7*F$5))-'Five Year'!$D$15-'Five Year'!$D$16)-MAX(0,((Inputs!$D$16*$B7*F$5)-('Five Year'!$D$11*Inputs!$D$16*$B7)-(Inputs!$D$16*$B7*F$5)*'Five Year'!$D$48-MAX(Inputs!$D$50,Inputs!$D$51*(Inputs!$D$16*$B7*F$5))-'Five Year'!$D$15-'Five Year'!$D$16)-('Asset Register'!$G$25+(Inputs!$D$16*$B7*F$5)*Inputs!$D$52/10))*Inputs!$D$54-(Inputs!$D$16*$B7*F$5)*Inputs!$D$52-(Inputs!$D$16*$B7*F$5)*Inputs!$D$53 -> 426981.04 | G7: =((Inputs!$D$16*$B7*G$5)-('Five Year'!$D$11*Inputs!$D$16*$B7)-(Inputs!$D$16*$B7*G$5)*'Five Year'!$D$48-MAX(Inputs!$D$50,Inputs!$D$51*(Inputs!$D$16*$B7*G$5))-'Five Year'!$D$15-'Five Year'!$D$16)-MAX(0,((Inputs!$D$16*$B7*G$5)-('Five Year'!$D$11*Inputs!$D$16*$B7)-(Inputs!$D$16*$B7*G$5)*'Five Year'!$D$48-MAX(Inputs!$D$50,Inputs!$D$51*(Inputs!$D$16*$B7*G$5))-'Five Year'!$D$15-'Five Year'!$D$16)-('Asset Register'!$G$25+(Inputs!$D$16*$B7*G$5)*Inputs!$D$52/10))*Inputs!$D$54-(Inputs!$D$16*$B7*G$5)*Inputs!$D$52-(Inputs!$D$16*$B7*G$5)*Inputs!$D$53 -> 494307.04 | H7: =((Inputs!$D$16*$B7*H$5)-('Five Year'!$D$11*Inputs!$D$16*$B7)-(Inputs!$D$16*$B7*H$5)*'Five Year'!$D$48-MAX(Inputs!$D$50,Inputs!$D$51*(Inputs!$D$16*$B7*H$5))-'Five Year'!$D$15-'Five Year'!$D$16)-MAX(0,((Inputs!$D$16*$B7*H$5)-('Five Year'!$D$11*Inputs!$D$16*$B7)-(Inputs!$D$16*$B7*H$5)*'Five Year'!$D$48-MAX(Inputs!$D$50,Inputs!$D$51*(Inputs!$D$16*$B7*H$5))-'Five Year'!$D$15-'Five Year'!$D$16)-('Asset Register'!$G$25+(Inputs!$D$16*$B7*H$5)*Inputs!$D$52/10))*Inputs!$D$54-(Inputs!$D$16*$B7*H$5)*Inputs!$D$52-(Inputs!$D$16*$B7*H$5)*Inputs!$D$53 -> 561633.04
B8: 0.4 | D8: =((Inputs!$D$16*$B8*D$5)-('Five Year'!$D$11*Inputs!$D$16*$B8)-(Inputs!$D$16*$B8*D$5)*'Five Year'!$D$48-MAX(Inputs!$D$50,Inputs!$D$51*(Inputs!$D$16*$B8*D$5))-'Five Year'!$D$15-'Five Year'!$D$16)-MAX(0,((Inputs!$D$16*$B8*D$5)-('Five Year'!$D$11*Inputs!$D$16*$B8)-(Inputs!$D$16*$B8*D$5)*'Five Year'!$D$48-MAX(Inputs!$D$50,Inputs!$D$51*(Inputs!$D$16*$B8*D$5))-'Five Year'!$D$15-'Five Year'!$D$16)-('Asset Register'!$G$25+(Inputs!$D$16*$B8*D$5)*Inputs!$D$52/10))*Inputs!$D$54-(Inputs!$D$16*$B8*D$5)*Inputs!$D$52-(Inputs!$D$16*$B8*D$5)*Inputs!$D$53 -> 365832.77 | E8: =((Inputs!$D$16*$B8*E$5)-('Five Year'!$D$11*Inputs!$D$16*$B8)-(Inputs!$D$16*$B8*E$5)*'Five Year'!$D$48-MAX(Inputs!$D$50,Inputs!$D$51*(Inputs!$D$16*$B8*E$5))-'Five Year'!$D$15-'Five Year'!$D$16)-MAX(0,((Inputs!$D$16*$B8*E$5)-('Five Year'!$D$11*Inputs!$D$16*$B8)-(Inputs!$D$16*$B8*E$5)*'Five Year'!$D$48-MAX(Inputs!$D$50,Inputs!$D$51*(Inputs!$D$16*$B8*E$5))-'Five Year'!$D$15-'Five Year'!$D$16)-('Asset Register'!$G$25+(Inputs!$D$16*$B8*E$5)*Inputs!$D$52/10))*Inputs!$D$54-(Inputs!$D$16*$B8*E$5)*Inputs!$D$52-(Inputs!$D$16*$B8*E$5)*Inputs!$D$53 -> 442776.77 | F8: =((Inputs!$D$16*$B8*F$5)-('Five Year'!$D$11*Inputs!$D$16*$B8)-(Inputs!$D$16*$B8*F$5)*'Five Year'!$D$48-MAX(Inputs!$D$50,Inputs!$D$51*(Inputs!$D$16*$B8*F$5))-'Five Year'!$D$15-'Five Year'!$D$16)-MAX(0,((Inputs!$D$16*$B8*F$5)-('Five Year'!$D$11*Inputs!$D$16*$B8)-(Inputs!$D$16*$B8*F$5)*'Five Year'!$D$48-MAX(Inputs!$D$50,Inputs!$D$51*(Inputs!$D$16*$B8*F$5))-'Five Year'!$D$15-'Five Year'!$D$16)-('Asset Register'!$G$25+(Inputs!$D$16*$B8*F$5)*Inputs!$D$52/10))*Inputs!$D$54-(Inputs!$D$16*$B8*F$5)*Inputs!$D$52-(Inputs!$D$16*$B8*F$5)*Inputs!$D$53 -> 519720.77 | G8: =((Inputs!$D$16*$B8*G$5)-('Five Year'!$D$11*Inputs!$D$16*$B8)-(Inputs!$D$16*$B8*G$5)*'Five Year'!$D$48-MAX(Inputs!$D$50,Inputs!$D$51*(Inputs!$D$16*$B8*G$5))-'Five Year'!$D$15-'Five Year'!$D$16)-MAX(0,((Inputs!$D$16*$B8*G$5)-('Five Year'!$D$11*Inputs!$D$16*$B8)-(Inputs!$D$16*$B8*G$5)*'Five Year'!$D$48-MAX(Inputs!$D$50,Inputs!$D$51*(Inputs!$D$16*$B8*G$5))-'Five Year'!$D$15-'Five Year'!$D$16)-('Asset Register'!$G$25+(Inputs!$D$16*$B8*G$5)*Inputs!$D$52/10))*Inputs!$D$54-(Inputs!$D$16*$B8*G$5)*Inputs!$D$52-(Inputs!$D$16*$B8*G$5)*Inputs!$D$53 -> 596664.77 | H8: =((Inputs!$D$16*$B8*H$5)-('Five Year'!$D$11*Inputs!$D$16*$B8)-(Inputs!$D$16*$B8*H$5)*'Five Year'!$D$48-MAX(Inputs!$D$50,Inputs!$D$51*(Inputs!$D$16*$B8*H$5))-'Five Year'!$D$15-'Five Year'!$D$16)-MAX(0,((Inputs!$D$16*$B8*H$5)-('Five Year'!$D$11*Inputs!$D$16*$B8)-(Inputs!$D$16*$B8*H$5)*'Five Year'!$D$48-MAX(Inputs!$D$50,Inputs!$D$51*(Inputs!$D$16*$B8*H$5))-'Five Year'!$D$15-'Five Year'!$D$16)-('Asset Register'!$G$25+(Inputs!$D$16*$B8*H$5)*Inputs!$D$52/10))*Inputs!$D$54-(Inputs!$D$16*$B8*H$5)*Inputs!$D$52-(Inputs!$D$16*$B8*H$5)*Inputs!$D$53 -> 673608.77
